BEGIN:VCALENDAR
VERSION:2.0
PRODID:-//CWA Local 1170 - ECPv4.6.5//NONSGML v1.0//EN
CALSCALE:GREGORIAN
METHOD:PUBLISH
X-WR-CALNAME:CWA Local 1170
X-ORIGINAL-URL:https://cwalocal1170.com
X-WR-CALDESC:Events for CWA Local 1170
BEGIN:VEVENT
DTSTART;VALUE=DATE:20171222
DTEND;VALUE=DATE:20171226
DTSTAMP:20260420T142915
CREATED:20171208T141628Z
LAST-MODIFIED:20171221T203412Z
UID:1226-1513900800-1514246399@cwalocal1170.com
SUMMARY:Office Closed
DESCRIPTION:The Office will be closed for Christmas on Friday\, December 22nd and Monday\, December 25th. \nHappy Holidays! \n
URL:https://cwalocal1170.com/event/office-closed/
ATTACH;FMTTYPE=image/jpeg:https://cwalocal1170.com/wp-content/uploads/2017/12/sign.jpg
END:VEVENT
END:VCALENDAR