BEGIN:VCALENDAR
VERSION:2.0
PRODID:-//CWA Local 1170 - ECPv4.6.5//NONSGML v1.0//EN
CALSCALE:GREGORIAN
METHOD:PUBLISH
X-WR-CALNAME:CWA Local 1170
X-ORIGINAL-URL:https://cwalocal1170.com
X-WR-CALDESC:Events for CWA Local 1170
BEGIN:VEVENT
DTSTART;VALUE=DATE:20191224
DTEND;VALUE=DATE:20191225
DTSTAMP:20260421T084539
CREATED:20191018T150054Z
LAST-MODIFIED:20191018T150054Z
UID:2695-1577145600-1577231999@cwalocal1170.com
SUMMARY:Office Closed
DESCRIPTION:We are closed on Christmas Eve and Christmas Day.  Have a Merry Christmas! \n
URL:https://cwalocal1170.com/event/office-closed-3/
ATTACH;FMTTYPE=image/jpeg:https://cwalocal1170.com/wp-content/uploads/2017/12/sign.jpg
END:VEVENT
END:VCALENDAR