BEGIN:VCALENDAR
VERSION:2.0
PRODID:-//CWA Local 1170 - ECPv4.6.5//NONSGML v1.0//EN
CALSCALE:GREGORIAN
METHOD:PUBLISH
X-WR-CALNAME:CWA Local 1170
X-ORIGINAL-URL:https://cwalocal1170.com
X-WR-CALDESC:Events for CWA Local 1170
BEGIN:VEVENT
DTSTART;TZID=America/New_York:20250130T083000
DTEND;TZID=America/New_York:20250130T100000
DTSTAMP:20260421T121412
CREATED:20250114T154338Z
LAST-MODIFIED:20250114T154612Z
UID:5486-1738225800-1738231200@cwalocal1170.com
SUMMARY:Membership Meeting
DESCRIPTION:@ Union Hall \n
URL:https://cwalocal1170.com/event/membership-meeting-6/
LOCATION:4061 W. Henrietta Rd\, Rochester\, NY\, 14623\, United States
GEO:43.192956;-77.62976
X-APPLE-STRUCTURED-LOCATION;VALUE=URI;X-ADDRESS=4061 W. Henrietta Rd Rochester NY 14623 United States;X-APPLE-RADIUS=500;X-TITLE=4061 W. Henrietta Rd:geo:-77.62976,43.192956
ATTACH;FMTTYPE=image/gif:https://cwalocal1170.com/wp-content/uploads/2019/02/MEETING-1.gif
END:VEVENT
END:VCALENDAR